BEGIN:VCALENDAR
VERSION:2.0
PRODID:-//Goshen Pride | Goshen, IN - ECPv6.12.0.1//NONSGML v1.0//EN
CALSCALE:GREGORIAN
METHOD:PUBLISH
X-WR-CALNAME:Goshen Pride | Goshen, IN
X-ORIGINAL-URL:https://goshenpride.org
X-WR-CALDESC:Events for Goshen Pride | Goshen, IN
REFRESH-INTERVAL;VALUE=DURATION:PT1H
X-Robots-Tag:noindex
X-PUBLISHED-TTL:PT1H
BEGIN:VTIMEZONE
TZID:America/Indiana/Indianapolis
BEGIN:DAYLIGHT
TZOFFSETFROM:-0500
TZOFFSETTO:-0400
TZNAME:EDT
DTSTART:20240310T070000
END:DAYLIGHT
BEGIN:STANDARD
TZOFFSETFROM:-0400
TZOFFSETTO:-0500
TZNAME:EST
DTSTART:20241103T060000
END:STANDARD
END:VTIMEZONE
BEGIN:VEVENT
DTSTART;TZID=America/Indiana/Indianapolis:20240720T200000
DTEND;TZID=America/Indiana/Indianapolis:20240721T010000
DTSTAMP:20260424T125236
CREATED:20240708T171936Z
LAST-MODIFIED:20240708T171936Z
UID:209-1721505600-1721523600@goshenpride.org
SUMMARY:Gay Bar Take Over
DESCRIPTION:Music\, dancing\, photo booths\, and more! \nJoin us in celebrating pride in downtown Goshen bars\, including Elephant Bar\, Barecito\, Constant Spring\, and Common Spirits. A one time $5 entrance fee gets you into all locations including a dance party featuring DJ PB. Late-night food menu from Constant Spring from 10:30 p.m. – 1 a.m. Plus additional food trucks available from 9 p.m. to midnight. \n21+
URL:https://goshenpride.org/event/gay-bar-take-over/
LOCATION:Elephant Bar\, 227 S Main St\, Goshen\, IN\, 46256\, United States
END:VEVENT
BEGIN:VEVENT
DTSTART;TZID=America/Indiana/Indianapolis:20240720T130000
DTEND;TZID=America/Indiana/Indianapolis:20240720T160000
DTSTAMP:20260424T125236
CREATED:20240708T171502Z
LAST-MODIFIED:20240708T171502Z
UID:206-1721480400-1721491200@goshenpride.org
SUMMARY:Drag Brunch
DESCRIPTION:Join us for delicious food and drinks while hobnobbing with drag kings and queens. \n21+
URL:https://goshenpride.org/event/drag-brunch/
LOCATION:Common Spirits\, 111 E Lincoln Ave\, Goshen\, IN\, 46256\, United States
END:VEVENT
BEGIN:VEVENT
DTSTART;TZID=America/Indiana/Indianapolis:20240720T100000
DTEND;TZID=America/Indiana/Indianapolis:20240720T143000
DTSTAMP:20260424T125236
CREATED:20240708T170729Z
LAST-MODIFIED:20240708T170729Z
UID:202-1721469600-1721485800@goshenpride.org
SUMMARY:Family Fun Fair
DESCRIPTION:Food\, games\, face painting\, and balloon artists. Celebrate our Goshen Pride Community of all ages at the Goshen College Cabin at 309 Reservoir Place\, Goshen\, IN 46526. \nAll Ages!
URL:https://goshenpride.org/event/family-fun-fair/
LOCATION:IN
END:VEVENT
BEGIN:VEVENT
DTSTART;TZID=America/Indiana/Indianapolis:20240720T100000
DTEND;TZID=America/Indiana/Indianapolis:20240720T110000
DTSTAMP:20260424T125236
CREATED:20240708T171035Z
LAST-MODIFIED:20240708T171035Z
UID:204-1721469600-1721473200@goshenpride.org
SUMMARY:Pride Ride
DESCRIPTION:Join us on a family-friendly bike ride through downtown Goshen. Meet at the Power House at the north end of the millrace canal with your bike decorated for pride\, or come a little early and deck out your bike with some of our rainbow decor. Then\, follow the group on a leisurely\, all-skill-level ride to the Goshen College Cabin for our Family Fun Fair. \nAll Ages!
URL:https://goshenpride.org/event/pride-ride/
LOCATION:IN
END:VEVENT
BEGIN:VEVENT
DTSTART;TZID=America/Indiana/Indianapolis:20240719T220000
DTEND;TZID=America/Indiana/Indianapolis:20240719T233000
DTSTAMP:20260424T125236
CREATED:20240708T165020Z
LAST-MODIFIED:20240708T165020Z
UID:200-1721426400-1721431800@goshenpride.org
SUMMARY:DRAG Show
DESCRIPTION:Goshen Pride’s first Drag Show on the Goshen Theater stage! \nBe blown away by six amazing local and regional drag performers. \nPatience Eau Claire \nBeba Hollywood \nNatosha Salad \nAfro Dytee \nAlondra Matt \nCherice Samore (Miss Gay Indiana) \nAnd Hostess Lili Extravaganza \n  \nTickets are $20 and are available online now! \n21+
URL:https://goshenpride.org/event/drag-show/
LOCATION:Goshen Theater Auditorium\, 216 S Main St\, Goshen\, IN\, 46256\, United States
END:VEVENT
BEGIN:VEVENT
DTSTART;TZID=America/Indiana/Indianapolis:20240719T190000
DTEND;TZID=America/Indiana/Indianapolis:20240719T203000
DTSTAMP:20260424T125236
CREATED:20240708T164449Z
LAST-MODIFIED:20240708T164449Z
UID:197-1721415600-1721421000@goshenpride.org
SUMMARY:Goshen Theater Film: Strange World
DESCRIPTION:Free Movie. \nAll Ages.
URL:https://goshenpride.org/event/goshen-theater-film-strange-world/
LOCATION:Goshen Theater Auditorium\, 216 S Main St\, Goshen\, IN\, 46256\, United States
END:VEVENT
BEGIN:VEVENT
DTSTART;TZID=America/Indiana/Indianapolis:20240719T180000
DTEND;TZID=America/Indiana/Indianapolis:20240719T190000
DTSTAMP:20260424T125236
CREATED:20240708T164338Z
LAST-MODIFIED:20240708T164338Z
UID:195-1721412000-1721415600@goshenpride.org
SUMMARY:Family Potluck
DESCRIPTION:Meet us at the Goshen Theater Ballroom for a classic carry-in. Bring a dish to share. Enjoy eating together before the Goshen Theater screens Strange World at 7:00 p.m.
URL:https://goshenpride.org/event/family-potluck/
LOCATION:Goshen Theater Ballroom\, 216 S Main St\, Goshen\, IN\, 46256\, United States
END:VEVENT
BEGIN:VEVENT
DTSTART;TZID=America/Indiana/Indianapolis:20240718T210000
DTEND;TZID=America/Indiana/Indianapolis:20240718T223000
DTSTAMP:20260424T125236
CREATED:20240708T164035Z
LAST-MODIFIED:20240708T164035Z
UID:193-1721336400-1721341800@goshenpride.org
SUMMARY:Elephant Bar Trivia: Pride Week Edition
DESCRIPTION:Join Elephant Bar’s weekly trivia. This week\, queer themed! \nFree shots for best team name. $25 bar tab for winning team. \n21+
URL:https://goshenpride.org/event/elephant-bar-trivia-pride-week-edition/
LOCATION:Elephant Bar\, 227 S Main St\, Goshen\, IN\, 46256\, United States
END:VEVENT
BEGIN:VEVENT
DTSTART;TZID=America/Indiana/Indianapolis:20240718T180000
DTEND;TZID=America/Indiana/Indianapolis:20240718T210000
DTSTAMP:20260424T125236
CREATED:20240708T163135Z
LAST-MODIFIED:20240708T163135Z
UID:188-1721325600-1721336400@goshenpride.org
SUMMARY:Gayme Night
DESCRIPTION:Join Goshen Pride and Goshen & Dragons for an evening of tabletop games and camaraderie\, perfect for the whole family. We’ll have a table of board and card games available\, or you can bring your favorites to play with others. Enjoy Dungeons and Dragons or want to learn? Goshen and Dragons will have four one-shot tables for players to join. One-shot campaigns last between 2-3 hours. We will have two tables at around 6 p.m. and two around 7 p.m. \nAll Ages!
URL:https://goshenpride.org/event/gayme-night/
LOCATION:Goshen Theater Ballroom\, 216 S Main St\, Goshen\, IN\, 46256\, United States
END:VEVENT
BEGIN:VEVENT
DTSTART;TZID=America/Indiana/Indianapolis:20240718T170000
DTEND;TZID=America/Indiana/Indianapolis:20240718T190000
DTSTAMP:20260424T125236
CREATED:20240708T163846Z
LAST-MODIFIED:20240708T163846Z
UID:190-1721322000-1721329200@goshenpride.org
SUMMARY:Martinis and Music: Pride Week Edition
DESCRIPTION:Goshen Theater hosts a monthly happy hour event every third Thursday. This month\, they’re highlighting queer talent with singer-songwriter MyKayla Cynthia performing and Amanda Rose as guest bartender. \n  \nJoin Goshen Theater for this free event!
URL:https://goshenpride.org/event/martinis-and-music-pride-week-edition/
LOCATION:Goshen Theater Lobby\, 216 S Main St\, Goshen\, IN\, 46256\, United States
END:VEVENT
BEGIN:VEVENT
DTSTART;TZID=America/Indiana/Indianapolis:20240717T190000
DTEND;TZID=America/Indiana/Indianapolis:20240718T003000
DTSTAMP:20260424T125236
CREATED:20240708T162559Z
LAST-MODIFIED:20240708T162723Z
UID:185-1721242800-1721262600@goshenpride.org
SUMMARY:Queeraoke
DESCRIPTION:A favorite pride week event\, join us at the Elephant Bar for a night of singing karaoke and celebrating. Hosted by the lovely Ronda! Due to the popularity of this event\, karaoke slots will be assigned via lottery\, We recommend bringing a lawn chair as the back patio is very full for this event. \n21+
URL:https://goshenpride.org/event/queeraoke/
LOCATION:Elephant Bar\, 227 S Main St\, Goshen\, IN\, 46256\, United States
END:VEVENT
BEGIN:VEVENT
DTSTART;TZID=America/Indiana/Indianapolis:20240716T203000
DTEND;TZID=America/Indiana/Indianapolis:20240716T213000
DTSTAMP:20260424T125236
CREATED:20240708T162244Z
LAST-MODIFIED:20240708T162244Z
UID:182-1721161800-1721165400@goshenpride.org
SUMMARY:DRAG Trivia
DESCRIPTION:This event is always a pride week hit! \nHosted by Natosha Salad and Karen Pancakes. \nTest your trivia knowledge while being wowed by our fabulous trivia hostess! \nWinners get a $30 tab. \n21+
URL:https://goshenpride.org/event/drag-trivia/
LOCATION:constant spring\, 219 S Main St\, Goshen\, IN\, 46256\, United States
END:VEVENT
BEGIN:VEVENT
DTSTART;TZID=America/Indiana/Indianapolis:20240715T180000
DTEND;TZID=America/Indiana/Indianapolis:20240715T210000
DTSTAMP:20260424T125236
CREATED:20240708T161527Z
LAST-MODIFIED:20240708T172117Z
UID:179-1721066400-1721077200@goshenpride.org
SUMMARY:Express Yourself
DESCRIPTION:Join Goshen Pride and Art House in an evening of exploring yourself. Create art\, find the freedom to express yourself\, and self-reflect in a safe space. Activities offered will include a community art project\, black-out poetry\, a coloring and drawing table\, and a community clothing swap. Private areas will be available for changing and trying on looks. \nAll Ages.
URL:https://goshenpride.org/event/express-yourself/
LOCATION:Goshen Theater Ballroom\, 216 S Main St\, Goshen\, IN\, 46256\, United States
END:VEVENT
BEGIN:VEVENT
DTSTART;TZID=America/Indiana/Indianapolis:20240714T110000
DTEND;TZID=America/Indiana/Indianapolis:20240714T220000
DTSTAMP:20260424T125236
CREATED:20240708T161028Z
LAST-MODIFIED:20240708T172055Z
UID:177-1720954800-1720994400@goshenpride.org
SUMMARY:Sunday Funday
DESCRIPTION:Various Activities around downtown Goshen businesses. \n  \n11 a.m. – 1 p.m. Brunch and Silent Auction at Goshen Brewing Company. All Ages. \n3-8 p.m. Pride Launch at Common Spirits. 21+. \nTBD Family Activities at Ignition Music Garage. All Ages. \n6 p.m. Author Reading at Fables Books. All Ages. \n5-10 p.m. Social hour and games at Elephant Bar. 21+.
URL:https://goshenpride.org/event/sunday-funday/
LOCATION:IN
END:VEVENT
BEGIN:VEVENT
DTSTART;VALUE=DATE:20240714
DTEND;VALUE=DATE:20240721
DTSTAMP:20260424T125236
CREATED:20240504T185628Z
LAST-MODIFIED:20240504T185721Z
UID:162-1720915200-1721519999@goshenpride.org
SUMMARY:Goshen Pride Week
DESCRIPTION:Sunday\, July 14 – Sunday Funday \nActivities throughout the day at Common Spirits\, GBCo\, Ignition Music Garage\, Elephant Bar \n  \nMonday\, July 15 – Express Yourself @ Goshen Theater \nExplore expressions and your most artistic self! \n  \nTuesday\, July 16 – DRAG Trivia @ Constant Spring \n  \nWednesday\, July 17 – Queeraoke @ Elephant Bar \n  \nThursday\, July 18 – Gayme Night (Location TBD) \nAll ages! Table games and more. \n  \nFriday\, July 19th – Family Carry-In @ Goshen Theater\, Free Movie @ Goshen Theater\, \nLate Night 21+ DRAG SHOW @ Goshen Theater \n  \nSaturday\, July 20th – Pride Ride\, Family Fan Fair\, Drag Brunch @ Common Spirits\, and Gay Bar Take Over \nAll events are subject to change.
URL:https://goshenpride.org/event/goshen-pride-week/
LOCATION:IN
END:VEVENT
BEGIN:VEVENT
DTSTART;TZID=America/Indiana/Indianapolis:20240618T180000
DTEND;TZID=America/Indiana/Indianapolis:20240618T200000
DTSTAMP:20260424T125236
CREATED:20240504T185341Z
LAST-MODIFIED:20240504T185341Z
UID:160-1718733600-1718740800@goshenpride.org
SUMMARY:Community Social
DESCRIPTION:Join Goshen Pride for a community social. Location TBD.
URL:https://goshenpride.org/event/community-social/
LOCATION:IN
END:VEVENT
BEGIN:VEVENT
DTSTART;TZID=America/Indiana/Indianapolis:20240516T180000
DTEND;TZID=America/Indiana/Indianapolis:20240516T200000
DTSTAMP:20260424T125236
CREATED:20240504T185058Z
LAST-MODIFIED:20240504T185058Z
UID:158-1715882400-1715889600@goshenpride.org
SUMMARY:Community Social at Goshen Brewing Company
DESCRIPTION:Join Goshen Pride for a social event at Goshen Brewing Company. All ages welcome.
URL:https://goshenpride.org/event/community-social-at-goshen-brewing-company/
LOCATION:IN
END:VEVENT
BEGIN:VEVENT
DTSTART;TZID=America/Indiana/Indianapolis:20240321T080000
DTEND;TZID=America/Indiana/Indianapolis:20240321T170000
DTSTAMP:20260424T125236
CREATED:20240301T194929Z
LAST-MODIFIED:20240301T194929Z
UID:140-1711008000-1711040400@goshenpride.org
SUMMARY:Community Social at Fables Books
DESCRIPTION:
URL:https://goshenpride.org/event/community-social-at-fables-books/
LOCATION:Fables Books\, 215 S. Main St.\, Goshen\, IN\, 46526\, United States
CATEGORIES:Community Socials
END:VEVENT
END:VCALENDAR