BEGIN:VCALENDAR
VERSION:2.0
PRODID:-//Goshen Pride | Goshen, IN - ECPv6.12.0.1//NONSGML v1.0//EN
CALSCALE:GREGORIAN
METHOD:PUBLISH
X-ORIGINAL-URL:https://goshenpride.org
X-WR-CALDESC:Events for Goshen Pride | Goshen, IN
REFRESH-INTERVAL;VALUE=DURATION:PT1H
X-Robots-Tag:noindex
X-PUBLISHED-TTL:PT1H
BEGIN:VTIMEZONE
TZID:America/Indiana/Indianapolis
BEGIN:DAYLIGHT
TZOFFSETFROM:-0500
TZOFFSETTO:-0400
TZNAME:EDT
DTSTART:20250309T070000
END:DAYLIGHT
BEGIN:STANDARD
TZOFFSETFROM:-0400
TZOFFSETTO:-0500
TZNAME:EST
DTSTART:20251102T060000
END:STANDARD
END:VTIMEZONE
BEGIN:VEVENT
DTSTART;TZID=America/Indiana/Indianapolis:20250714T180000
DTEND;TZID=America/Indiana/Indianapolis:20250714T200000
DTSTAMP:20260424T162137
CREATED:20250630T192445Z
LAST-MODIFIED:20250701T160525Z
UID:238-1752516000-1752523200@goshenpride.org
SUMMARY:Express Yourself
DESCRIPTION:Fashion\, Make-Up\, Nails\, Clothes! Try it all and explore fun creative options in a safe space.\n\nAll ages welcome!\n\nSponsored by Studio 106\, Rich Beauty Parlor\, and Bloom and Dagger Nails\n\nAdditional activities include black out poetry\, community art project\, free clothing\, make-up tutorials\, nails\, and hair! Feel free to bring your own make-up to use.\n\nPlease consider signing up to be a volunteer for this event or for other events during pride week.\n\nhttps://docs.google.com/forms/d/e/1FAIpQLScF19MWeNDRhY3T_BYwYWEq9dHlIrKM3j9dexfw7d0Y80GPKg/viewform
URL:https://goshenpride.org/event/express-yourself-2/
LOCATION:Goshen Theater Ballroom\, 216 S Main St\, Goshen\, IN\, 46256\, United States
CATEGORIES:Pride Week Event
ATTACH;FMTTYPE=image/png:https://goshenpride.org/wp-content/uploads/2025/06/EXPRESS-YOURSELF.png
END:VEVENT
BEGIN:VEVENT
DTSTART;TZID=America/Indiana/Indianapolis:20250713T110000
DTEND;TZID=America/Indiana/Indianapolis:20250713T220000
DTSTAMP:20260424T162137
CREATED:20250630T160954Z
LAST-MODIFIED:20250630T160954Z
UID:234-1752404400-1752444000@goshenpride.org
SUMMARY:Sunday Funday
DESCRIPTION:11 a.m. – 2 p.m. @ Goshen Brewing Company \n*Family Friendly Brunch! Bring the whole crew and wear your pride colors! \n1 – 4 p.m.@ Fables Books \n*Open Shop with 20% of sales donated to Goshen Pride \n12 – 8 p.m. @ The Fold (21+) \n*Stop in anytime for a slice and try a featured pride cocktail! Portion of each drink sale donated to Pride. \n2 – 4 p.m. @ Ignition Music Garage \n*Family Art Activity provided by Young at Art \n3 – 8 p.m. @ Common Spirits (21+) \n*Pride Friendship Bracelet Making \n6 – 10 p.m. @ Elephant Bar (21+) \n*Pop-Up Pride Karaoke \nAll are welcome! \nPlease consider signing up to be a volunteer for this event or other events throughout the week! \nhttps://docs.google.com/forms/d/e/1FAIpQLScF19MWeNDRhY3T_BYwYWEq9dHlIrKM3j9dexfw7d0Y80GPKg/viewform
URL:https://goshenpride.org/event/sunday-funday-2/
LOCATION:IN
CATEGORIES:Pride Week Event
ATTACH;FMTTYPE=image/png:https://goshenpride.org/wp-content/uploads/2025/06/SUNDAY-FUNDAY.png
END:VEVENT
END:VCALENDAR