BEGIN:VCALENDAR
VERSION:2.0
PRODID:-//Goshen Pride | Goshen, IN - ECPv6.12.0.1//NONSGML v1.0//EN
CALSCALE:GREGORIAN
METHOD:PUBLISH
X-ORIGINAL-URL:https://goshenpride.org
X-WR-CALDESC:Events for Goshen Pride | Goshen, IN
REFRESH-INTERVAL;VALUE=DURATION:PT1H
X-Robots-Tag:noindex
X-PUBLISHED-TTL:PT1H
BEGIN:VTIMEZONE
TZID:America/Indiana/Indianapolis
BEGIN:DAYLIGHT
TZOFFSETFROM:-0500
TZOFFSETTO:-0400
TZNAME:EDT
DTSTART:20240310T070000
END:DAYLIGHT
BEGIN:STANDARD
TZOFFSETFROM:-0400
TZOFFSETTO:-0500
TZNAME:EST
DTSTART:20241103T060000
END:STANDARD
BEGIN:DAYLIGHT
TZOFFSETFROM:-0500
TZOFFSETTO:-0400
TZNAME:EDT
DTSTART:20250309T070000
END:DAYLIGHT
BEGIN:STANDARD
TZOFFSETFROM:-0400
TZOFFSETTO:-0500
TZNAME:EST
DTSTART:20251102T060000
END:STANDARD
BEGIN:DAYLIGHT
TZOFFSETFROM:-0500
TZOFFSETTO:-0400
TZNAME:EDT
DTSTART:20260308T070000
END:DAYLIGHT
BEGIN:STANDARD
TZOFFSETFROM:-0400
TZOFFSETTO:-0500
TZNAME:EST
DTSTART:20261101T060000
END:STANDARD
END:VTIMEZONE
BEGIN:VEVENT
DTSTART;TZID=America/Indiana/Indianapolis:20260310T180000
DTEND;TZID=America/Indiana/Indianapolis:20260310T200000
DTSTAMP:20260424T125802
CREATED:20260304T144541Z
LAST-MODIFIED:20260304T144541Z
UID:289-1773165600-1773172800@goshenpride.org
SUMMARY:March Social
DESCRIPTION:Join us for our monthly social! \nGood conversations\, updates about upcoming events\, fun drinks\, and more! \n21+ \n 
URL:https://goshenpride.org/event/march-social/
LOCATION:Common Spirits\, 111 E Lincoln Ave\, Goshen\, IN\, 46256\, United States
CATEGORIES:Community Socials
ATTACH;FMTTYPE=image/jpeg:https://goshenpride.org/wp-content/uploads/2026/03/GP-Mar-2026-Social-Website.jpg
END:VEVENT
BEGIN:VEVENT
DTSTART;TZID=America/Indiana/Indianapolis:20251207T130000
DTEND;TZID=America/Indiana/Indianapolis:20251207T150000
DTSTAMP:20260424T125802
CREATED:20251106T180707Z
LAST-MODIFIED:20251106T180707Z
UID:285-1765112400-1765119600@goshenpride.org
SUMMARY:Holiday Potluck
DESCRIPTION:Join us for our annual holiday potluck! \nIf you are able\, please bring a dish to share. We will provide drinks. \nPlease consider bringing shelf stable foods\, personal hygiene items\, cash\, and other helpful things as we will be making a donation to The Window to help support those in our community who are struggling.
URL:https://goshenpride.org/event/holiday-potluck/
LOCATION:Goshen Theater Ballroom\, 216 S Main St\, Goshen\, IN\, 46256\, United States
CATEGORIES:Community Socials
ATTACH;FMTTYPE=image/png:https://goshenpride.org/wp-content/uploads/2025/11/Holiday-Carry-In-2025.png
END:VEVENT
BEGIN:VEVENT
DTSTART;TZID=America/Indiana/Indianapolis:20251118T180000
DTEND;TZID=America/Indiana/Indianapolis:20251118T200000
DTSTAMP:20260424T125802
CREATED:20251106T180259Z
LAST-MODIFIED:20251106T180734Z
UID:282-1763488800-1763496000@goshenpride.org
SUMMARY:November Social
DESCRIPTION:Join us for a casual night of socializing! \n21+
URL:https://goshenpride.org/event/november-social/
LOCATION:Elephant Bar\, 227 S Main St\, Goshen\, IN\, 46256\, United States
CATEGORIES:Community Socials
ATTACH;FMTTYPE=image/png:https://goshenpride.org/wp-content/uploads/2025/11/GP-social-Nov.-.png
END:VEVENT
BEGIN:VEVENT
DTSTART;TZID=America/Indiana/Indianapolis:20240321T080000
DTEND;TZID=America/Indiana/Indianapolis:20240321T170000
DTSTAMP:20260424T125802
CREATED:20240301T194929Z
LAST-MODIFIED:20240301T194929Z
UID:140-1711008000-1711040400@goshenpride.org
SUMMARY:Community Social at Fables Books
DESCRIPTION:
URL:https://goshenpride.org/event/community-social-at-fables-books/
LOCATION:Fables Books\, 215 S. Main St.\, Goshen\, IN\, 46526\, United States
CATEGORIES:Community Socials
END:VEVENT
END:VCALENDAR